BEGIN:VCALENDAR
VERSION:2.0
PRODID:-//wp-events-plugin.com//7.2.3.1//EN
TZID:Europe/Berlin
X-WR-TIMEZONE:Europe/Berlin
BEGIN:VEVENT
UID:252@sk-sandhausen.de
DTSTART;TZID=Europe/Berlin:20240303T090000
DTEND;TZID=Europe/Berlin:20240303T180000
DTSTAMP:20230816T201942Z
URL:https://www.sk-sandhausen.de/events/verbandsrunde-2023-2024-runde-7/
SUMMARY:Verbandsrunde 2023/2024 Runde 7
DESCRIPTION:Mehr Informationen unter Verbandsrunde.
ATTACH;FMTTYPE=image/jpeg:https://www.sk-sandhausen.de/wordpress/wp-conten
 t/uploads/vd-photography-OFiT_4hrQRk-unsplash-scaled.jpg
CATEGORIES:Bezirk,Mitglieder
LOCATION:Gastgeber\, Spiellokal des Gastgebermannschaft\, Ort der Gastgeber
 mannschaft\, Deutschland
X-APPLE-STRUCTURED-LOCATION;VALUE=URI;X-ADDRESS=Spiellokal des Gastgeberman
 nschaft\, Ort der Gastgebermannschaft\, Deutschland;X-APPLE-RADIUS=100;X-T
 ITLE=Gastgeber:geo:0,0
END:VEVENT
BEGIN:VTIMEZONE
TZID:Europe/Berlin
X-LIC-LOCATION:Europe/Berlin
BEGIN:STANDARD
DTSTART:20231029T020000
TZOFFSETFROM:+0200
TZOFFSETTO:+0100
TZNAME:CET
END:STANDARD
END:VTIMEZONE
END:VCALENDAR