BEGIN:VCALENDAR
VERSION:2.0
PRODID:-//wp-events-plugin.com//7.2.3.1//EN
TZID:Europe/Berlin
X-WR-TIMEZONE:Europe/Berlin
BEGIN:VEVENT
UID:216@sk-sandhausen.de
DTSTART;TZID=Europe/Berlin:20221011T202000
DTEND;TZID=Europe/Berlin:20221011T220000
DTSTAMP:20220918T134021Z
URL:https://www.sk-sandhausen.de/events/schach-960-meisterschaft-2022-rund
 e-11/
SUMMARY:Schach 960-Meisterschaft 2022 Runde 11
DESCRIPTION:Die 960-Meisterschaft findet online statt.
ATTACH;FMTTYPE=image/jpeg:https://www.sk-sandhausen.de/wordpress/wp-conten
 t/uploads/vd-photography-OFiT_4hrQRk-unsplash-scaled.jpg
CATEGORIES:Mitglieder,Turniere
LOCATION:https://lichess.org/team/sk-1947-sandhausen
END:VEVENT
BEGIN:VTIMEZONE
TZID:Europe/Berlin
X-LIC-LOCATION:Europe/Berlin
BEGIN:DAYLIGHT
DTSTART:20220327T030000
TZOFFSETFROM:+0100
TZOFFSETTO:+0200
TZNAME:CEST
END:DAYLIGHT
END:VTIMEZONE
END:VCALENDAR