BEGIN:VCALENDAR
VERSION:2.0
PRODID:-//wp-events-plugin.com//7.2.3.1//EN
TZID:Europe/Berlin
X-WR-TIMEZONE:Europe/Berlin
BEGIN:VEVENT
UID:261@sk-sandhausen.de
DTSTART;TZID=Europe/Berlin:20230714T200000
DTEND;TZID=Europe/Berlin:20230714T220000
DTSTAMP:20230524T184419Z
URL:https://www.sk-sandhausen.de/events/jahreshauptversammlung-2023/
SUMMARY:Jahreshauptversammlung 2023
DESCRIPTION:Die offizielle Einladung mit dem TOPs folgt.
ATTACH;FMTTYPE=image/jpeg:https://www.sk-sandhausen.de/wordpress/wp-conten
 t/uploads/vd-photography-OFiT_4hrQRk-unsplash-scaled.jpg
CATEGORIES:Mitglieder,Öffentlich
LOCATION:Vereinshaus\, Kirchstraße 7\, Sandhausen\, Baden-Württemberg\, 6
 9207\, Deutschland
X-APPLE-STRUCTURED-LOCATION;VALUE=URI;X-ADDRESS=Kirchstraße 7\, Sandhausen
 \, Baden-Württemberg\, 69207\, Deutschland;X-APPLE-RADIUS=100;X-TITLE=Ver
 einshaus:geo:0,0
END:VEVENT
BEGIN:VTIMEZONE
TZID:Europe/Berlin
X-LIC-LOCATION:Europe/Berlin
BEGIN:DAYLIGHT
DTSTART:20230326T030000
TZOFFSETFROM:+0100
TZOFFSETTO:+0200
TZNAME:CEST
END:DAYLIGHT
END:VTIMEZONE
END:VCALENDAR